BEGIN:VCALENDAR
VERSION:2.0
PRODID:-//Hudson Valley Can Code - ECPv5.10.0//NONSGML v1.0//EN
CALSCALE:GREGORIAN
METHOD:PUBLISH
X-WR-CALNAME:Hudson Valley Can Code
X-ORIGINAL-URL:https://hudsonvalleycancode.com
X-WR-CALDESC:Events for Hudson Valley Can Code
BEGIN:VTIMEZONE
TZID:UTC
BEGIN:STANDARD
TZOFFSETFROM:+0000
TZOFFSETTO:+0000
TZNAME:UTC
DTSTART:20190101T000000
END:STANDARD
END:VTIMEZONE
BEGIN:VEVENT
DTSTART;TZID=UTC:20190107T183000
DTEND;TZID=UTC:20190107T203000
DTSTAMP:20260421T170837
CREATED:20190106T191954Z
LAST-MODIFIED:20190106T192838Z
UID:106-1546885800-1546893000@hudsonvalleycancode.com
SUMMARY:Coding Club
DESCRIPTION:Coding Club: Meet and Work together. Monthly Co-learning Activities\n\n\nHosted by Yulia O. \nFrom web-development\, coding & computing \n\nPublic group \n\nDetails\nWhat we’ll do:\n\n\n10 Minutes for Everyone to introduce themselves to the group. We want to know who you are\, what you do\, language or technology focus\, and what you’re looking to get out of this group in the future!\nThen we will dive into talks which will range from 15-45 minutes with time for questions at the end.\nIn the future we can do one of the Coursera’s courses if any interest\nWhat to bring:\nLaptops to work. Questions to ask. Projects to collaborate. Skills and ideas to share. Business cards to exchange.\nImportant to know: Coding Club is a volunteer-based activity. We are looking forward to meet local techies and web pros as well as total novice who is interested to start this Coding/WebDev journey. We will work together as community to help each other to learn and grow.
URL:https://hudsonvalleycancode.com/event/coding-club/
LOCATION:Newburgh Free Library\, 124 Grand St\, Newburgh\, NY\, 12550\, United States
ORGANIZER;CN="Yulia%20Ovchinnikova":MAILTO:Yulia@openhubproject.com
END:VEVENT
END:VCALENDAR