BEGIN:VCALENDAR
VERSION:2.0
PRODID:-//Hudson Valley Can Code - ECPv5.10.0//NONSGML v1.0//EN
CALSCALE:GREGORIAN
METHOD:PUBLISH
X-WR-CALNAME:Hudson Valley Can Code
X-ORIGINAL-URL:https://hudsonvalleycancode.com
X-WR-CALDESC:Events for Hudson Valley Can Code
BEGIN:VTIMEZONE
TZID:UTC
BEGIN:STANDARD
TZOFFSETFROM:+0000
TZOFFSETTO:+0000
TZNAME:UTC
DTSTART:20190101T000000
END:STANDARD
END:VTIMEZONE
BEGIN:VEVENT
DTSTART;TZID=UTC:20190811T090000
DTEND;TZID=UTC:20190811T120000
DTSTAMP:20260421T152724
CREATED:20190106T031728Z
LAST-MODIFIED:20190106T031728Z
UID:72-1565514000-1565524800@hudsonvalleycancode.com
SUMMARY:Project Hours / Study Group
DESCRIPTION:Come and work on your project in a group setting.\nShow your project\, get feedback\, ask questions\, get help. \nWe are group of self-learning web developers studying together JavaScript frameworks including React and React Native. We are working on WordPress projects and exploring variety of backend services as well. Come to learn together and have your questions answered in a group setting.
URL:https://hudsonvalleycancode.com/event/project-hours-study-group-2019-08-11/
LOCATION:two Alice’s coffee lounge\, 117 Broadway\, Newburgh\, NY\, 12550\, United States
ORGANIZER;CN="Yulia%20Ovchinnikova":MAILTO:Yulia@openhubproject.com
END:VEVENT
END:VCALENDAR